BEGIN:VCALENDAR
VERSION:2.0
PRODID:-//HITS Horse Shows - ECPv6.15.18//NONSGML v1.0//EN
CALSCALE:GREGORIAN
METHOD:PUBLISH
X-ORIGINAL-URL:https://www.hitsshows.com
X-WR-CALDESC:Events for HITS Horse Shows
REFRESH-INTERVAL;VALUE=DURATION:PT1H
X-Robots-Tag:noindex
X-PUBLISHED-TTL:PT1H
BEGIN:VTIMEZONE
TZID:America/Los_Angeles
BEGIN:DAYLIGHT
TZOFFSETFROM:-0800
TZOFFSETTO:-0700
TZNAME:PDT
DTSTART:20240310T100000
END:DAYLIGHT
BEGIN:STANDARD
TZOFFSETFROM:-0700
TZOFFSETTO:-0800
TZNAME:PST
DTSTART:20241103T090000
END:STANDARD
BEGIN:DAYLIGHT
TZOFFSETFROM:-0800
TZOFFSETTO:-0700
TZNAME:PDT
DTSTART:20250309T100000
END:DAYLIGHT
BEGIN:STANDARD
TZOFFSETFROM:-0700
TZOFFSETTO:-0800
TZNAME:PST
DTSTART:20251102T090000
END:STANDARD
BEGIN:DAYLIGHT
TZOFFSETFROM:-0800
TZOFFSETTO:-0700
TZNAME:PDT
DTSTART:20260308T100000
END:DAYLIGHT
BEGIN:STANDARD
TZOFFSETFROM:-0700
TZOFFSETTO:-0800
TZNAME:PST
DTSTART:20261101T090000
END:STANDARD
END:VTIMEZONE
BEGIN:VTIMEZONE
TZID:America/New_York
BEGIN:DAYLIGHT
TZOFFSETFROM:-0500
TZOFFSETTO:-0400
TZNAME:EDT
DTSTART:20240310T070000
END:DAYLIGHT
BEGIN:STANDARD
TZOFFSETFROM:-0400
TZOFFSETTO:-0500
TZNAME:EST
DTSTART:20241103T060000
END:STANDARD
BEGIN:DAYLIGHT
TZOFFSETFROM:-0500
TZOFFSETTO:-0400
TZNAME:EDT
DTSTART:20250309T070000
END:DAYLIGHT
BEGIN:STANDARD
TZOFFSETFROM:-0400
TZOFFSETTO:-0500
TZNAME:EST
DTSTART:20251102T060000
END:STANDARD
BEGIN:DAYLIGHT
TZOFFSETFROM:-0500
TZOFFSETTO:-0400
TZNAME:EDT
DTSTART:20260308T070000
END:DAYLIGHT
BEGIN:STANDARD
TZOFFSETFROM:-0400
TZOFFSETTO:-0500
TZNAME:EST
DTSTART:20261101T060000
END:STANDARD
END:VTIMEZONE
BEGIN:VEVENT
DTSTART;VALUE=DATE:20250412
DTEND;VALUE=DATE:20250414
DTSTAMP:20260420T100624
CREATED:20240405T041351Z
LAST-MODIFIED:20241217T173543Z
UID:10000100-1744416000-1744588799@www.hitsshows.com
SUMMARY:HITS The League + VHSA 1 April
DESCRIPTION:HITS Culpeper is proud to host 6 VHSA-affiliated shows in 2025. These competitions will feature Associate VHSA Rated classes as well as sanctioned divisions by The League presented by Marshall & Sterling Insurance\, offering riders opportunities to earn valuable qualifying points for The League Finals in Saugerties this September.
URL:https://www.hitsshows.com/event/hits-the-league-vhsa-april/
LOCATION:HITS Commonwealth Park\, 13256 Commonwealth Parkway\, Culpeper\, VA\, 22701
CATEGORIES:Hunter/Jumper
ATTACH;FMTTYPE=image/jpeg:https://www.hitsshows.com/wp-content/uploads/2024/10/VA_Copr2024AlisonHartwell_CP24-93-0059_24.jpg
ORGANIZER;CN="HITS%2C LLC":MAILTO:info@HITSShows.com
END:VEVENT
BEGIN:VEVENT
DTSTART;VALUE=DATE:20250416
DTEND;VALUE=DATE:20250421
DTSTAMP:20260420T100624
CREATED:20240328T173649Z
LAST-MODIFIED:20241009T201006Z
UID:10000017-1744761600-1745193599@www.hitsshows.com
SUMMARY:Commonwealth National
DESCRIPTION:HITS Culpeper Series features 6 weeks of USEF-rated competition between April and September. Highlights include weekly Jumper Prix and USHJA National Hunter Derbies\, as well as Hunter\, Jumper and Equitation Classes for all levels.
URL:https://www.hitsshows.com/event/commonwealth-national/
LOCATION:HITS Commonwealth Park\, 13256 Commonwealth Parkway\, Culpeper\, VA\, 22701
CATEGORIES:Hunter/Jumper
ATTACH;FMTTYPE=image/jpeg:https://www.hitsshows.com/wp-content/uploads/2024/10/VA_Copr2024AlisonHartwell_CP24-30-0079_24.jpg
ORGANIZER;CN="HITS%2C LLC":MAILTO:info@HITSShows.com
END:VEVENT
BEGIN:VEVENT
DTSTART;VALUE=DATE:20250417
DTEND;VALUE=DATE:20250421
DTSTAMP:20260420T100624
CREATED:20241015T205906Z
LAST-MODIFIED:20250421T170630Z
UID:10000231-1744848000-1745193599@www.hitsshows.com
SUMMARY:Del Mar National Horse Show (Dressage)
DESCRIPTION:OPEN TO THE PUBLIC – FREE ADMISSION \nThe 76th Annual  Del Mar National Horse show-Dressage week CDI3* and USEF Level 5 National Qualifier showcases top dressage sport on the West Coast. Recognized as an Official USEF Heritage Competition\, this event is known for showcasing top CDI and National riders and helps riders qualify for USEF Festival of Champions\, North American Youth Championships and World Breeding Championship.  \n\nHITS Dressage Contact \n\n\nKim Keenan Stordahl \n\n\nkim@hitsshows.com \n\n\n564.202.4244
URL:https://www.hitsshows.com/event/del-mar-national-horse-show-dressage/
LOCATION:HITS Del Mar Horsepark\, 14550 El Camino Real\, Del Mar\, CA\, 92014
CATEGORIES:Dressage
ATTACH;FMTTYPE=image/jpeg:https://www.hitsshows.com/wp-content/uploads/2025/04/GP_for_FS_Harrison_Finley_TerriMiller_25DMNT-4881-1.jpg
ORGANIZER;CN="HITS%2C LLC":MAILTO:info@HITSShows.com
END:VEVENT
BEGIN:VEVENT
DTSTART;VALUE=DATE:20250425
DTEND;VALUE=DATE:20250427
DTSTAMP:20260420T100625
CREATED:20241217T173229Z
LAST-MODIFIED:20241217T174104Z
UID:10000330-1745539200-1745711999@www.hitsshows.com
SUMMARY:HITS The League + VHSA 2 April
DESCRIPTION:HITS Culpeper is proud to host 6 VHSA-affiliated shows in 2025. These competitions will feature Associate VHSA Rated classes as well as sanctioned divisions by The League presented by Marshall & Sterling Insurance\, offering riders opportunities to earn valuable qualifying points for The League Finals in Saugerties this September.
URL:https://www.hitsshows.com/event/hits-the-league-vhsa-april-2/
LOCATION:HITS Commonwealth Park\, 13256 Commonwealth Parkway\, Culpeper\, VA\, 22701
CATEGORIES:Hunter/Jumper
ATTACH;FMTTYPE=image/jpeg:https://www.hitsshows.com/wp-content/uploads/2024/10/VA_Copr2024AlisonHartwell_CP24-93-0059_24.jpg
ORGANIZER;CN="HITS%2C LLC":MAILTO:info@HITSShows.com
END:VEVENT
BEGIN:VEVENT
DTSTART;VALUE=DATE:20250425
DTEND;VALUE=DATE:20250428
DTSTAMP:20260420T100625
CREATED:20241015T210052Z
LAST-MODIFIED:20250411T144521Z
UID:10000234-1745539200-1745798399@www.hitsshows.com
SUMMARY:SCHC Horse Show
DESCRIPTION:OPEN TO THE PUBLIC – FREE ADMISSION
URL:https://www.hitsshows.com/event/schc-horse-show/
LOCATION:HITS Del Mar Horsepark\, 14550 El Camino Real\, Del Mar\, CA\, 92014
CATEGORIES:Rental
END:VEVENT
BEGIN:VEVENT
DTSTART;VALUE=DATE:20250429
DTEND;VALUE=DATE:20250505
DTSTAMP:20260420T100625
CREATED:20241015T210052Z
LAST-MODIFIED:20250411T143601Z
UID:10000235-1745884800-1746403199@www.hitsshows.com
SUMMARY:Del Mar National Horse Show (Jumping)
DESCRIPTION:OPEN TO THE PUBLIC – FREE ADMISSION
URL:https://www.hitsshows.com/event/del-mar-national-horse-show-jumping/
LOCATION:HITS Del Mar Horsepark\, 14550 El Camino Real\, Del Mar\, CA\, 92014
CATEGORIES:Hunter/Jumper
ORGANIZER;CN="HITS%2C LLC":MAILTO:info@HITSShows.com
END:VEVENT
END:VCALENDAR