BEGIN:VCALENDAR
VERSION:2.0
PRODID:-//HITS Horse Shows - ECPv6.15.18//NONSGML v1.0//EN
CALSCALE:GREGORIAN
METHOD:PUBLISH
X-WR-CALNAME:HITS Horse Shows
X-ORIGINAL-URL:https://www.hitsshows.com
X-WR-CALDESC:Events for HITS Horse Shows
REFRESH-INTERVAL;VALUE=DURATION:PT1H
X-Robots-Tag:noindex
X-PUBLISHED-TTL:PT1H
BEGIN:VTIMEZONE
TZID:America/Los_Angeles
BEGIN:DAYLIGHT
TZOFFSETFROM:-0800
TZOFFSETTO:-0700
TZNAME:PDT
DTSTART:20240310T100000
END:DAYLIGHT
BEGIN:STANDARD
TZOFFSETFROM:-0700
TZOFFSETTO:-0800
TZNAME:PST
DTSTART:20241103T090000
END:STANDARD
BEGIN:DAYLIGHT
TZOFFSETFROM:-0800
TZOFFSETTO:-0700
TZNAME:PDT
DTSTART:20250309T100000
END:DAYLIGHT
BEGIN:STANDARD
TZOFFSETFROM:-0700
TZOFFSETTO:-0800
TZNAME:PST
DTSTART:20251102T090000
END:STANDARD
BEGIN:DAYLIGHT
TZOFFSETFROM:-0800
TZOFFSETTO:-0700
TZNAME:PDT
DTSTART:20260308T100000
END:DAYLIGHT
BEGIN:STANDARD
TZOFFSETFROM:-0700
TZOFFSETTO:-0800
TZNAME:PST
DTSTART:20261101T090000
END:STANDARD
END:VTIMEZONE
BEGIN:VEVENT
DTSTART;VALUE=DATE:20250225
DTEND;VALUE=DATE:20250303
DTSTAMP:20260420T095704
CREATED:20240405T041337Z
LAST-MODIFIED:20240626T131053Z
UID:10000094-1740441600-1740959999@www.hitsshows.com
SUMMARY:Ocala Tournament
DESCRIPTION:HITS Ocala Winter season features 13 weeks of USEF-rated competition.  Highlights include weekly Grand Prix and Hunter Derbies and Junior/Amateur Hunter and Jumper Classics for horses and riders of all levels.  Plus Hunter riders take center stage during select weeks featuring World Championship Hunter Rider (WCHR) competition\, USHJA International Hunter Derbies\, and Premier Hunter Competition*.
URL:https://www.hitsshows.com/event/ocala-tournament/
LOCATION:HITS Post Time Farm\, 13710 US Highway 27\, Ocala\, FL\, 34482
CATEGORIES:Hunter/Jumper
ATTACH;FMTTYPE=image/svg+xml:https://www.hitsshows.com/wp-content/uploads/2024/04/hits-ocala-calendar-featured2.svg
ORGANIZER;CN="HITS%2C LLC":MAILTO:info@HITSShows.com
END:VEVENT
BEGIN:VEVENT
DTSTART;VALUE=DATE:20250304
DTEND;VALUE=DATE:20250310
DTSTAMP:20260420T095704
CREATED:20240405T041338Z
LAST-MODIFIED:20240626T131212Z
UID:10000095-1741046400-1741564799@www.hitsshows.com
SUMMARY:Ocala Winter Finals
DESCRIPTION:HITS Ocala Winter season features 13 weeks of USEF-rated competition.  Highlights include weekly Grand Prix and Hunter Derbies and Junior/Amateur Hunter and Jumper Classics for horses and riders of all levels.  Plus Hunter riders take center stage during select weeks featuring World Championship Hunter Rider (WCHR) competition\, USHJA International Hunter Derbies\, and Premier Hunter Competition*.
URL:https://www.hitsshows.com/event/ocala-winter-finals/
LOCATION:HITS Post Time Farm\, 13710 US Highway 27\, Ocala\, FL\, 34482
CATEGORIES:Hunter/Jumper
ATTACH;FMTTYPE=image/svg+xml:https://www.hitsshows.com/wp-content/uploads/2024/04/hits-ocala-calendar-featured2.svg
ORGANIZER;CN="HITS%2C LLC":MAILTO:info@HITSShows.com
END:VEVENT
BEGIN:VEVENT
DTSTART;VALUE=DATE:20250311
DTEND;VALUE=DATE:20250317
DTSTAMP:20260420T095704
CREATED:20240405T041338Z
LAST-MODIFIED:20240625T215556Z
UID:10000096-1741651200-1742169599@www.hitsshows.com
SUMMARY:Ocala Winter Celebration
DESCRIPTION:HITS Ocala Winter Circuit features 10 weeks of USEF-rated competition. Highlights include two weekly Grand Prix (Thursdays & Saturdays)\, two weeks of Premier Hunter competition (Weeks IV & IX) and World Championship Hunter Rider (WCHR) competition (Week VII). The circuit will come to an exciting finale with the HITS Championship March 19-24\, 2024\, featuring the $100\,000 Great American Grand Prix\, the HITS Equitation Championship and Classics for Junior/Amateur Jumpers of all levels.
URL:https://www.hitsshows.com/event/ocala-winter-celebration/
LOCATION:HITS Post Time Farm\, 13710 US Highway 27\, Ocala\, FL\, 34482
CATEGORIES:Hunter/Jumper
ATTACH;FMTTYPE=image/svg+xml:https://www.hitsshows.com/wp-content/uploads/2024/04/hits-ocala-calendar-featured2.svg
ORGANIZER;CN="HITS%2C LLC":MAILTO:info@HITSShows.com
END:VEVENT
BEGIN:VEVENT
DTSTART;VALUE=DATE:20250318
DTEND;VALUE=DATE:20250324
DTSTAMP:20260420T095704
CREATED:20240405T041338Z
LAST-MODIFIED:20240626T131332Z
UID:10000097-1742256000-1742774399@www.hitsshows.com
SUMMARY:Ocala Championship
DESCRIPTION:HITS Ocala Winter season features 13 weeks of USEF-rated competition.  Highlights include weekly Grand Prix and Hunter Derbies and Junior/ Amateur Hunter and Jumper Classics for horses and riders of all levels.  Plus Hunter riders take center stage during select weeks featuring World Championship Hunter Rider (WCHR) competition\, USHJA International Hunter Derbies\, and Premier Hunter Competition*.
URL:https://www.hitsshows.com/event/ocala-championship/
LOCATION:HITS Post Time Farm\, 13710 US Highway 27\, Ocala\, FL\, 34482
CATEGORIES:Hunter/Jumper
ATTACH;FMTTYPE=image/svg+xml:https://www.hitsshows.com/wp-content/uploads/2024/04/hits-ocala-calendar-featured2.svg
ORGANIZER;CN="HITS%2C LLC":MAILTO:info@HITSShows.com
END:VEVENT
BEGIN:VEVENT
DTSTART;VALUE=DATE:20250320
DTEND;VALUE=DATE:20250324
DTSTAMP:20260420T095704
CREATED:20241015T205906Z
LAST-MODIFIED:20250115T181208Z
UID:10000230-1742428800-1742774399@www.hitsshows.com
SUMMARY:Del Mar Dressage Affaire
DESCRIPTION:Established in 2024\, the HITS Del Mar Dressage Affaire CDI3* and USEF Level 5 National Qualifier showcases top dressage sport on the West Coast. This CDI and National event helps riders qualify for USEF Festival of Champions\, North American Youth Championships and World Breeding Championships. All HITS shows feature a new Pony and Small Horse Division as well as the addition of a Prix Caprilli class combining dressage and jumping skills together.  \n\n\nHITS Dressage Contact \n\n\nKim Keenan Stordahl \n\n\nkim@hitsshows.com \n\n\n564.202.4244
URL:https://www.hitsshows.com/event/del-mar-dressage-affaire/
LOCATION:HITS Del Mar Horsepark\, 14550 El Camino Real\, Del Mar\, CA\, 92014
CATEGORIES:Dressage
ORGANIZER;CN="HITS%2C LLC":MAILTO:info@HITSShows.com
END:VEVENT
BEGIN:VEVENT
DTSTART;VALUE=DATE:20250327
DTEND;VALUE=DATE:20250331
DTSTAMP:20260420T095704
CREATED:20250114T180929Z
LAST-MODIFIED:20250328T180015Z
UID:10000344-1743033600-1743379199@www.hitsshows.com
SUMMARY:Festival of the Horse™ - Ocala
DESCRIPTION:HITS is proud to introduce The Festival of the Horse™\, a unique celebration of equestrian enthusiasts through a multidiscipline\, unrated competition format.  Join us for the first Festival at HITS Post Time Farm!  Featured disciplines will include classes for hunter/ jumper\, dressage\, pony club\, western pleasure\, arena eventing\, and more!\n\nHITS Post Time Farm\, Ocala\nMarch 27-30\, 2025
URL:https://www.hitsshows.com/event/festival-of-the-horse-ocala/
LOCATION:HITS Post Time Farm\, 13710 US Highway 27\, Ocala\, FL\, 34482
CATEGORIES:Social
ATTACH;FMTTYPE=image/jpeg:https://www.hitsshows.com/wp-content/uploads/2025/03/015AF2I6869_Baby_Grn_Htr_Cropped.jpg
ORGANIZER;CN="HITS%2C LLC":MAILTO:info@HITSShows.com
END:VEVENT
BEGIN:VEVENT
DTSTART;VALUE=DATE:20250328
DTEND;VALUE=DATE:20250330
DTSTAMP:20260420T095704
CREATED:20241230T162828Z
LAST-MODIFIED:20250411T143340Z
UID:10000336-1743120000-1743292799@www.hitsshows.com
SUMMARY:SCHC Horse Show
DESCRIPTION:PEN TO THE PUBLIC – FREE ADMISSION
URL:https://www.hitsshows.com/event/schc-horse-show-pending/
LOCATION:HITS Del Mar Horsepark\, 14550 El Camino Real\, Del Mar\, CA\, 92014
CATEGORIES:Rental
END:VEVENT
BEGIN:VEVENT
DTSTART;VALUE=DATE:20250329
DTEND;VALUE=DATE:20250331
DTSTAMP:20260420T095704
CREATED:20250102T151047Z
LAST-MODIFIED:20250115T181745Z
UID:10000343-1743206400-1743379199@www.hitsshows.com
SUMMARY:Sabine Schut-Kery Dressage Adult Amateur Clinic 
DESCRIPTION:As a thank you for your support of our shows\, HITS will be hosting a complimentary Amateur rider clinic with Sabine Schut-Kery! \n• Sabine will teach 6 riders each day for 45 minute lessons.\n• We will host a Q&A session with riders and auditors at the end of day one and provide food and drink.\n• Riders will be chosen by a draw that will be held at HITS Del Mar Dressage Opener Show.\n• All AA division riders that competed at least once at a 2024 HITS Del Mar Dressage Show are eligible to put their name in the hat!\n• Lessons and Haul in or stabling will be covered by HITS.\n• Auditors are welcome for $25/day which includes the Q&A session! \nSabine Schut-Kery captured the attention of dressage enthusiasts around the world when she competed in the 2021 Tokyo Olympics. She and Sanceo displayed elegance\, harmony\, balance\, and poise in one of the world’s highest-stakes and most competitive environments. With every ride\, the pair achieved a new all-time personal best score\, surpassing the elusive 80% twice\, helping to secure the United States Team Silver Medal\, and culminating with an impressive fifth place in the world in the individual competition. \nSabine’s path to the Olympics\, however\, involves quite a unique history. German-born and classically educated within the German system\, her career began in the entertainment industry\, where she trained and showcased horses in exhibitions. Those exhibition years are why Sabine is who she is today and are an invaluable part of her success in the sport of dressage. It is during this time she developed her training philosophy\, techniques\, and style that she has taken into the dressage arena. \nIn 2005\, Sabine made the decision to focus solely on developing horses for the sport of dressage. She remains true to her German classical dressage roots and trains under Olympian Christine Traurig. She bases her business at The Palms Equestrian Center in San Diego\, California. \nOf the many critical components that involve training\, Sabine prioritizes the welfare of the horse above all else. “When I train a horse\, it is important to me to interact with him\, not only on a physical level\, but a mental one\, as well. I feel it is my responsibility to safeguard the spirit and the soul of the horse.” \nIf you have questions\, please email Kim@HITSShows.com
URL:https://www.hitsshows.com/event/sabine-schut-kery-dressage-adult-amateur-clinic/
LOCATION:HITS Del Mar Horsepark\, 14550 El Camino Real\, Del Mar\, CA\, 92014
ORGANIZER;CN="HITS%2C LLC":MAILTO:info@HITSShows.com
END:VEVENT
END:VCALENDAR