BEGIN:VCALENDAR
VERSION:2.0
PRODID:-//HITS Horse Shows - ECPv6.15.18//NONSGML v1.0//EN
CALSCALE:GREGORIAN
METHOD:PUBLISH
X-ORIGINAL-URL:https://www.hitsshows.com
X-WR-CALDESC:Events for HITS Horse Shows
REFRESH-INTERVAL;VALUE=DURATION:PT1H
X-Robots-Tag:noindex
X-PUBLISHED-TTL:PT1H
BEGIN:VTIMEZONE
TZID:America/Los_Angeles
BEGIN:DAYLIGHT
TZOFFSETFROM:-0800
TZOFFSETTO:-0700
TZNAME:PDT
DTSTART:20240310T100000
END:DAYLIGHT
BEGIN:STANDARD
TZOFFSETFROM:-0700
TZOFFSETTO:-0800
TZNAME:PST
DTSTART:20241103T090000
END:STANDARD
BEGIN:DAYLIGHT
TZOFFSETFROM:-0800
TZOFFSETTO:-0700
TZNAME:PDT
DTSTART:20250309T100000
END:DAYLIGHT
BEGIN:STANDARD
TZOFFSETFROM:-0700
TZOFFSETTO:-0800
TZNAME:PST
DTSTART:20251102T090000
END:STANDARD
BEGIN:DAYLIGHT
TZOFFSETFROM:-0800
TZOFFSETTO:-0700
TZNAME:PDT
DTSTART:20260308T100000
END:DAYLIGHT
BEGIN:STANDARD
TZOFFSETFROM:-0700
TZOFFSETTO:-0800
TZNAME:PST
DTSTART:20261101T090000
END:STANDARD
END:VTIMEZONE
BEGIN:VEVENT
DTSTART;VALUE=DATE:20250128
DTEND;VALUE=DATE:20250203
DTSTAMP:20260420T055211
CREATED:20240405T041324Z
LAST-MODIFIED:20240626T130733Z
UID:10000088-1738022400-1738540799@www.hitsshows.com
SUMMARY:Ocala Premiere
DESCRIPTION:HITS Ocala Winter season features 13 weeks of USEF-rated competition.  Highlights include weekly Grand Prix and Hunter Derbies and Junior/Amateur Hunter and Jumper Classics for horses and riders of all levels.  Plus Hunter riders take center stage during select weeks featuring World Championship Hunter Rider (WCHR) competition\, USHJA International Hunter Derbies\, and Premier Hunter Competition*.
URL:https://www.hitsshows.com/event/ocala-premiere/
LOCATION:HITS Post Time Farm\, 13710 US Highway 27\, Ocala\, FL\, 34482
CATEGORIES:Hunter/Jumper
ATTACH;FMTTYPE=image/svg+xml:https://www.hitsshows.com/wp-content/uploads/2024/04/hits-ocala-calendar-featured2.svg
ORGANIZER;CN="HITS%2C LLC":MAILTO:info@HITSShows.com
END:VEVENT
BEGIN:VEVENT
DTSTART;VALUE=DATE:20250204
DTEND;VALUE=DATE:20250210
DTSTAMP:20260420T055211
CREATED:20240405T041331Z
LAST-MODIFIED:20240626T130821Z
UID:10000090-1738627200-1739145599@www.hitsshows.com
SUMMARY:Ocala Winter Classic
DESCRIPTION:HITS Ocala Winter season features 13 weeks of USEF-rated competition.  Highlights include weekly Grand Prix and Hunter Derbies and Junior/Amateur Hunter and Jumper Classics for horses and riders of all levels.  Plus Hunter riders take center stage during select weeks featuring World Championship Hunter Rider (WCHR) competition\, USHJA International Hunter Derbies\, and Premier Hunter Competition*.
URL:https://www.hitsshows.com/event/ocala-winter-classic/
LOCATION:HITS Post Time Farm\, 13710 US Highway 27\, Ocala\, FL\, 34482
CATEGORIES:Hunter/Jumper
ATTACH;FMTTYPE=image/svg+xml:https://www.hitsshows.com/wp-content/uploads/2024/04/hits-ocala-calendar-featured2.svg
ORGANIZER;CN="HITS%2C LLC":MAILTO:info@HITSShows.com
END:VEVENT
BEGIN:VEVENT
DTSTART;VALUE=DATE:20250211
DTEND;VALUE=DATE:20250217
DTSTAMP:20260420T055211
CREATED:20240405T041332Z
LAST-MODIFIED:20240626T130916Z
UID:10000091-1739232000-1739750399@www.hitsshows.com
SUMMARY:Ocala Winter Festival
DESCRIPTION:HITS Ocala Winter season features 13 weeks of USEF-rated competition.  Highlights include weekly Grand Prix and Hunter Derbies and Junior/Amateur Hunter and Jumper Classics for horses and riders of all levels.  Plus Hunter riders take center stage during select weeks featuring World Championship Hunter Rider (WCHR) competition\, USHJA International Hunter Derbies\, and Premier Hunter Competition*.
URL:https://www.hitsshows.com/event/ocala-winter-festival/
LOCATION:HITS Post Time Farm\, 13710 US Highway 27\, Ocala\, FL\, 34482
CATEGORIES:Hunter/Jumper
ATTACH;FMTTYPE=image/svg+xml:https://www.hitsshows.com/wp-content/uploads/2024/04/hits-ocala-calendar-featured2.svg
ORGANIZER;CN="HITS%2C LLC":MAILTO:info@HITSShows.com
END:VEVENT
BEGIN:VEVENT
DTSTART;VALUE=DATE:20250213
DTEND;VALUE=DATE:20250217
DTSTAMP:20260420T055211
CREATED:20241015T205648Z
LAST-MODIFIED:20250115T200714Z
UID:10000229-1739404800-1739750399@www.hitsshows.com
SUMMARY:Del Mar Dressage Opener
DESCRIPTION:Established in 2024\, the HITS Del Mar Dressage Opener CDI-W and USEF Level 5 National Qualifier showcases top dressage sport on the West Coast. This CDI event helps riders qualify for the World Cup Dressage Final in Switzerland as well as North American Youth Championships and USEF Festival of Champions in the National show. All HITS shows feature a new Pony and Small Horse Division as well as the addition of a Prix Caprilli class combining dressage and jumping skills together.  \n\n\nHITS Dressage Contact \n\n\nKim Keenan Stordahl \n\n\nkim@hitsshows.com \n\n\n564.202.4244
URL:https://www.hitsshows.com/event/del-mar-dressage-opener/
LOCATION:HITS Del Mar Horsepark\, 14550 El Camino Real\, Del Mar\, CA\, 92014
CATEGORIES:Dressage
ORGANIZER;CN="HITS%2C LLC":MAILTO:info@HITSShows.com
END:VEVENT
BEGIN:VEVENT
DTSTART;VALUE=DATE:20250218
DTEND;VALUE=DATE:20250224
DTSTAMP:20260420T055211
CREATED:20240405T041332Z
LAST-MODIFIED:20240626T131004Z
UID:10000093-1739836800-1740355199@www.hitsshows.com
SUMMARY:Ocala Masters
DESCRIPTION:HITS Ocala Winter season features 13 weeks of USEF-rated competition.  Highlights include weekly Grand Prix and Hunter Derbies and Junior/Amateur Hunter and Jumper Classics for horses and riders of all levels.  Plus Hunter riders take center stage during select weeks featuring World Championship Hunter Rider (WCHR) competition\, USHJA International Hunter Derbies\, and Premier Hunter Competition*.
URL:https://www.hitsshows.com/event/ocala-masters/
LOCATION:HITS Post Time Farm\, 13710 US Highway 27\, Ocala\, FL\, 34482
CATEGORIES:Hunter/Jumper
ATTACH;FMTTYPE=image/svg+xml:https://www.hitsshows.com/wp-content/uploads/2024/04/hits-ocala-calendar-featured2.svg
ORGANIZER;CN="HITS%2C LLC":MAILTO:info@HITSShows.com
END:VEVENT
BEGIN:VEVENT
DTSTART;VALUE=DATE:20250219
DTEND;VALUE=DATE:20250224
DTSTAMP:20260420T055211
CREATED:20241230T161509Z
LAST-MODIFIED:20250102T163027Z
UID:10000335-1739923200-1740355199@www.hitsshows.com
SUMMARY:USEF Dressage Training Series West Coast
DESCRIPTION:CLOSED TO PUBLIC
URL:https://www.hitsshows.com/event/usef-dressage-training-series-west-coast/
LOCATION:HITS Del Mar Horsepark\, 14550 El Camino Real\, Del Mar\, CA\, 92014
CATEGORIES:Dressage
END:VEVENT
BEGIN:VEVENT
DTSTART;VALUE=DATE:20250225
DTEND;VALUE=DATE:20250303
DTSTAMP:20260420T055212
CREATED:20240405T041337Z
LAST-MODIFIED:20240626T131053Z
UID:10000094-1740441600-1740959999@www.hitsshows.com
SUMMARY:Ocala Tournament
DESCRIPTION:HITS Ocala Winter season features 13 weeks of USEF-rated competition.  Highlights include weekly Grand Prix and Hunter Derbies and Junior/Amateur Hunter and Jumper Classics for horses and riders of all levels.  Plus Hunter riders take center stage during select weeks featuring World Championship Hunter Rider (WCHR) competition\, USHJA International Hunter Derbies\, and Premier Hunter Competition*.
URL:https://www.hitsshows.com/event/ocala-tournament/
LOCATION:HITS Post Time Farm\, 13710 US Highway 27\, Ocala\, FL\, 34482
CATEGORIES:Hunter/Jumper
ATTACH;FMTTYPE=image/svg+xml:https://www.hitsshows.com/wp-content/uploads/2024/04/hits-ocala-calendar-featured2.svg
ORGANIZER;CN="HITS%2C LLC":MAILTO:info@HITSShows.com
END:VEVENT
END:VCALENDAR