BEGIN:VCALENDAR
VERSION:2.0
PRODID:-//HITS Horse Shows - ECPv6.15.18//NONSGML v1.0//EN
CALSCALE:GREGORIAN
METHOD:PUBLISH
X-ORIGINAL-URL:https://www.hitsshows.com
X-WR-CALDESC:Events for HITS Horse Shows
REFRESH-INTERVAL;VALUE=DURATION:PT1H
X-Robots-Tag:noindex
X-PUBLISHED-TTL:PT1H
BEGIN:VTIMEZONE
TZID:America/Los_Angeles
BEGIN:DAYLIGHT
TZOFFSETFROM:-0800
TZOFFSETTO:-0700
TZNAME:PDT
DTSTART:20250309T100000
END:DAYLIGHT
BEGIN:STANDARD
TZOFFSETFROM:-0700
TZOFFSETTO:-0800
TZNAME:PST
DTSTART:20251102T090000
END:STANDARD
BEGIN:DAYLIGHT
TZOFFSETFROM:-0800
TZOFFSETTO:-0700
TZNAME:PDT
DTSTART:20260308T100000
END:DAYLIGHT
BEGIN:STANDARD
TZOFFSETFROM:-0700
TZOFFSETTO:-0800
TZNAME:PST
DTSTART:20261101T090000
END:STANDARD
BEGIN:DAYLIGHT
TZOFFSETFROM:-0800
TZOFFSETTO:-0700
TZNAME:PDT
DTSTART:20270314T100000
END:DAYLIGHT
BEGIN:STANDARD
TZOFFSETFROM:-0700
TZOFFSETTO:-0800
TZNAME:PST
DTSTART:20271107T090000
END:STANDARD
END:VTIMEZONE
BEGIN:VEVENT
DTSTART;VALUE=DATE:20260923
DTEND;VALUE=DATE:20260928
DTSTAMP:20260420T174510
CREATED:20251029T175132Z
LAST-MODIFIED:20251029T175132Z
UID:10000433-1790121600-1790553599@www.hitsshows.com
SUMMARY:Culpeper Finals
DESCRIPTION:HITS Culpeper Series features 6 weeks of USEF-rated competition between April and September. Highlights include weekly Jumper Prix and USHJA National Hunter Derbies\, as well as Hunter\, Jumper and Equitation Classes for all levels.
URL:https://www.hitsshows.com/event/culpeper-finals-3/
LOCATION:HITS Commonwealth Park\, 13256 Commonwealth Parkway\, Culpeper\, VA\, 22701
CATEGORIES:Hunter/Jumper
ATTACH;FMTTYPE=image/jpeg:https://www.hitsshows.com/wp-content/uploads/2025/09/KK5_2500-994.jpg
ORGANIZER;CN="HITS%2C LLC":MAILTO:info@HITSShows.com
END:VEVENT
BEGIN:VEVENT
DTSTART;VALUE=DATE:20260924
DTEND;VALUE=DATE:20260928
DTSTAMP:20260420T174510
CREATED:20251106T204029Z
LAST-MODIFIED:20251203T195815Z
UID:10000491-1790208000-1790553599@www.hitsshows.com
SUMMARY:NIHJA Finals
DESCRIPTION:
URL:https://www.hitsshows.com/event/nihja-infinity/
LOCATION:HITS Lamplight Equestrian Center\, 6N940 Dunham Road\, Wayne\, IL\, 60184
CATEGORIES:Rental
END:VEVENT
BEGIN:VEVENT
DTSTART;VALUE=DATE:20260926
DTEND;VALUE=DATE:20260928
DTSTAMP:20260420T174510
CREATED:20251106T204322Z
LAST-MODIFIED:20251106T204322Z
UID:10000493-1790380800-1790553599@www.hitsshows.com
SUMMARY:Garlic Festival Parking
DESCRIPTION:
URL:https://www.hitsshows.com/event/garlic-festival-parking-3/
LOCATION:HITS-on-the-Hudson\, 454 Washington Avenue Ext\, Saugerties\, NY\, 12477
CATEGORIES:Rental
END:VEVENT
END:VCALENDAR