BEGIN:VCALENDAR
VERSION:2.0
PRODID:-//HITS Horse Shows - ECPv6.15.18//NONSGML v1.0//EN
CALSCALE:GREGORIAN
METHOD:PUBLISH
X-ORIGINAL-URL:https://www.hitsshows.com
X-WR-CALDESC:Events for HITS Horse Shows
REFRESH-INTERVAL;VALUE=DURATION:PT1H
X-Robots-Tag:noindex
X-PUBLISHED-TTL:PT1H
BEGIN:VTIMEZONE
TZID:America/Los_Angeles
BEGIN:DAYLIGHT
TZOFFSETFROM:-0800
TZOFFSETTO:-0700
TZNAME:PDT
DTSTART:20250309T100000
END:DAYLIGHT
BEGIN:STANDARD
TZOFFSETFROM:-0700
TZOFFSETTO:-0800
TZNAME:PST
DTSTART:20251102T090000
END:STANDARD
BEGIN:DAYLIGHT
TZOFFSETFROM:-0800
TZOFFSETTO:-0700
TZNAME:PDT
DTSTART:20260308T100000
END:DAYLIGHT
BEGIN:STANDARD
TZOFFSETFROM:-0700
TZOFFSETTO:-0800
TZNAME:PST
DTSTART:20261101T090000
END:STANDARD
BEGIN:DAYLIGHT
TZOFFSETFROM:-0800
TZOFFSETTO:-0700
TZNAME:PDT
DTSTART:20270314T100000
END:DAYLIGHT
BEGIN:STANDARD
TZOFFSETFROM:-0700
TZOFFSETTO:-0800
TZNAME:PST
DTSTART:20271107T090000
END:STANDARD
END:VTIMEZONE
BEGIN:VEVENT
DTSTART;VALUE=DATE:20260525
DTEND;VALUE=DATE:20260601
DTSTAMP:20260420T040945
CREATED:20251106T203719Z
LAST-MODIFIED:20251106T203719Z
UID:10000488-1779667200-1780271999@www.hitsshows.com
SUMMARY:Arabian National Show
DESCRIPTION:OPEN TO THE PUBLIC – FREE ADMISSION
URL:https://www.hitsshows.com/event/arabian-national-show/
LOCATION:HITS Del Mar Horsepark\, 14550 El Camino Real\, Del Mar\, CA\, 92014
CATEGORIES:Rental
END:VEVENT
BEGIN:VEVENT
DTSTART;VALUE=DATE:20260527
DTEND;VALUE=DATE:20260601
DTSTAMP:20260420T040945
CREATED:20251029T192223Z
LAST-MODIFIED:20251029T192223Z
UID:10000455-1779840000-1780271999@www.hitsshows.com
SUMMARY:HITS Hudson Valley II
DESCRIPTION:
URL:https://www.hitsshows.com/event/hits-hudson-valley-ii/
LOCATION:HITS-on-the-Hudson\, 454 Washington Avenue Ext\, Saugerties\, NY\, 12477
CATEGORIES:Hunter/Jumper
ATTACH;FMTTYPE=image/jpeg:https://www.hitsshows.com/wp-content/uploads/2025/07/631DI4_8162_JR_NAT_2182.jpg
ORGANIZER;CN="HITS%2C LLC":MAILTO:info@HITSShows.com
END:VEVENT
BEGIN:VEVENT
DTSTART;VALUE=DATE:20260530
DTEND;VALUE=DATE:20260601
DTSTAMP:20260420T040945
CREATED:20251029T190106Z
LAST-MODIFIED:20251029T190106Z
UID:10000448-1780099200-1780271999@www.hitsshows.com
SUMMARY:HITS Windy City Dressage at Lamplight I&II
DESCRIPTION:
URL:https://www.hitsshows.com/event/hits-windy-city-dressage-at-lamplight-iii-2/
LOCATION:HITS Lamplight Equestrian Center\, 6N940 Dunham Road\, Wayne\, IL\, 60184
CATEGORIES:Dressage
ATTACH;FMTTYPE=image/jpeg:https://www.hitsshows.com/wp-content/uploads/2025/06/Fleming-Kuhn_Francis-HSR_FEI-FS.jpeg
END:VEVENT
BEGIN:VEVENT
DTSTART;VALUE=DATE:20260530
DTEND;VALUE=DATE:20260601
DTSTAMP:20260420T040945
CREATED:20251106T203613Z
LAST-MODIFIED:20251209T151128Z
UID:10000487-1780099200-1780271999@www.hitsshows.com
SUMMARY:SDCA Dog Agility Show
DESCRIPTION:AKC World Team Bye Event\n$10\,000 in cash prizes\nJanuary 11-12\, 2025\nEntries open on October 11\, 2024 at 12 pm PST and close on December 27\, 2024 at 12pm PST. \nThe event is open to all dogs and handlers registered with AKC. No qualification necessary to enter. \nThe Venue – Del Mar Horsepark\, 14550 El Camino Real\, Del Mar\, CA 92014 \nThe Judges \nCourse designers:  Fanny Gott\, Sweden \nJudge: Dan Butcher\, Portland OR \nClasses Offered:  ISC classes only. Agility and Jumping. \n\n\n\nRings: Two rings\, outdoors on grass. 130’x90′. \nRings will be fully fenced on three sides\, without closing gates. In the event of inclement weather–ie rain–we will be under cover on felted sand. FEO runs will be allowed at this trial\, please see page 6 of the paper premium for details. \nSchedule \nSaturday: Agility levels 1-3\, Jumping levels 1-3. \nSunday: Agility levels 2-3\, Jumping levels 2-3\, and a “final” round for special prizes.
URL:https://www.hitsshows.com/event/kraken-cup-dog-agility-show-3/
LOCATION:HITS Del Mar Horsepark\, 14550 El Camino Real\, Del Mar\, CA\, 92014
CATEGORIES:Rental
ATTACH;FMTTYPE=image/jpeg:https://www.hitsshows.com/wp-content/uploads/2024/12/Dog-Relay_SKY27785.jpg
END:VEVENT
END:VCALENDAR