BEGIN:VCALENDAR
VERSION:2.0
PRODID:-//HITS Horse Shows - ECPv6.15.18//NONSGML v1.0//EN
CALSCALE:GREGORIAN
METHOD:PUBLISH
X-WR-CALNAME:HITS Horse Shows
X-ORIGINAL-URL:https://www.hitsshows.com
X-WR-CALDESC:Events for HITS Horse Shows
REFRESH-INTERVAL;VALUE=DURATION:PT1H
X-Robots-Tag:noindex
X-PUBLISHED-TTL:PT1H
BEGIN:VTIMEZONE
TZID:America/Los_Angeles
BEGIN:DAYLIGHT
TZOFFSETFROM:-0800
TZOFFSETTO:-0700
TZNAME:PDT
DTSTART:20240310T100000
END:DAYLIGHT
BEGIN:STANDARD
TZOFFSETFROM:-0700
TZOFFSETTO:-0800
TZNAME:PST
DTSTART:20241103T090000
END:STANDARD
BEGIN:DAYLIGHT
TZOFFSETFROM:-0800
TZOFFSETTO:-0700
TZNAME:PDT
DTSTART:20250309T100000
END:DAYLIGHT
BEGIN:STANDARD
TZOFFSETFROM:-0700
TZOFFSETTO:-0800
TZNAME:PST
DTSTART:20251102T090000
END:STANDARD
BEGIN:DAYLIGHT
TZOFFSETFROM:-0800
TZOFFSETTO:-0700
TZNAME:PDT
DTSTART:20260308T100000
END:DAYLIGHT
BEGIN:STANDARD
TZOFFSETFROM:-0700
TZOFFSETTO:-0800
TZNAME:PST
DTSTART:20261101T090000
END:STANDARD
END:VTIMEZONE
BEGIN:VEVENT
DTSTART;VALUE=DATE:20250730
DTEND;VALUE=DATE:20250804
DTSTAMP:20260419T084256
CREATED:20241015T211623Z
LAST-MODIFIED:20250411T143937Z
UID:10000286-1753833600-1754265599@www.hitsshows.com
SUMMARY:Del Mar Summer Festival 1
DESCRIPTION:OPEN TO THE PUBLIC – FREE ADMISSION
URL:https://www.hitsshows.com/event/del-mar-summer-festival-1/
LOCATION:HITS Del Mar Horsepark\, 14550 El Camino Real\, Del Mar\, CA\, 92014
CATEGORIES:Hunter/Jumper
ORGANIZER;CN="HITS%2C LLC":MAILTO:info@HITSShows.com
END:VEVENT
BEGIN:VEVENT
DTSTART;VALUE=DATE:20250730
DTEND;VALUE=DATE:20250804
DTSTAMP:20260419T084256
CREATED:20241015T211623Z
LAST-MODIFIED:20250128T210515Z
UID:10000287-1753833600-1754265599@www.hitsshows.com
SUMMARY:Equifest II
DESCRIPTION:
URL:https://www.hitsshows.com/event/equifest-ii-2/
LOCATION:HITS Lamplight Equestrian Center\, 6N940 Dunham Road\, Wayne\, IL\, 60184
CATEGORIES:Hunter/Jumper
ORGANIZER;CN="HITS%2C LLC":MAILTO:info@HITSShows.com
END:VEVENT
BEGIN:VEVENT
DTSTART;VALUE=DATE:20250730
DTEND;VALUE=DATE:20250804
DTSTAMP:20260419T084256
CREATED:20241015T211624Z
LAST-MODIFIED:20250103T193727Z
UID:10000288-1753833600-1754265599@www.hitsshows.com
SUMMARY:Manchester & The Mountains
DESCRIPTION:
URL:https://www.hitsshows.com/event/manchester-the-mountains-2/
LOCATION:Harold Beebe Farm\, 3028 Rt 7\, East Dorset\, VT\, 05251
CATEGORIES:Hunter/Jumper
ORGANIZER;CN="HITS%2C LLC":MAILTO:info@HITSShows.com
END:VEVENT
BEGIN:VEVENT
DTSTART;VALUE=DATE:20250730
DTEND;VALUE=DATE:20250804
DTSTAMP:20260419T084256
CREATED:20241015T211823Z
LAST-MODIFIED:20250321T151406Z
UID:10000289-1753833600-1754265599@www.hitsshows.com
SUMMARY:New York Horse & Pony Show
DESCRIPTION:
URL:https://www.hitsshows.com/event/new-york-horse-pony/
LOCATION:HITS-on-the-Hudson\, 454 Washington Avenue Ext\, Saugerties\, NY\, 12477
CATEGORIES:Hunter/Jumper
ORGANIZER;CN="HITS%2C LLC":MAILTO:info@HITSShows.com
END:VEVENT
END:VCALENDAR