BEGIN:VCALENDAR
VERSION:2.0
PRODID:-//HITS Horse Shows - ECPv6.15.18//NONSGML v1.0//EN
CALSCALE:GREGORIAN
METHOD:PUBLISH
X-ORIGINAL-URL:https://www.hitsshows.com
X-WR-CALDESC:Events for HITS Horse Shows
REFRESH-INTERVAL;VALUE=DURATION:PT1H
X-Robots-Tag:noindex
X-PUBLISHED-TTL:PT1H
BEGIN:VTIMEZONE
TZID:America/Los_Angeles
BEGIN:DAYLIGHT
TZOFFSETFROM:-0800
TZOFFSETTO:-0700
TZNAME:PDT
DTSTART:20240310T100000
END:DAYLIGHT
BEGIN:STANDARD
TZOFFSETFROM:-0700
TZOFFSETTO:-0800
TZNAME:PST
DTSTART:20241103T090000
END:STANDARD
BEGIN:DAYLIGHT
TZOFFSETFROM:-0800
TZOFFSETTO:-0700
TZNAME:PDT
DTSTART:20250309T100000
END:DAYLIGHT
BEGIN:STANDARD
TZOFFSETFROM:-0700
TZOFFSETTO:-0800
TZNAME:PST
DTSTART:20251102T090000
END:STANDARD
BEGIN:DAYLIGHT
TZOFFSETFROM:-0800
TZOFFSETTO:-0700
TZNAME:PDT
DTSTART:20260308T100000
END:DAYLIGHT
BEGIN:STANDARD
TZOFFSETFROM:-0700
TZOFFSETTO:-0800
TZNAME:PST
DTSTART:20261101T090000
END:STANDARD
END:VTIMEZONE
BEGIN:VEVENT
DTSTART;VALUE=DATE:20250723
DTEND;VALUE=DATE:20250728
DTSTAMP:20260419T083606
CREATED:20241015T211423Z
LAST-MODIFIED:20250128T210458Z
UID:10000280-1753228800-1753660799@www.hitsshows.com
SUMMARY:Equifest I
DESCRIPTION:
URL:https://www.hitsshows.com/event/equifest-i-2/
LOCATION:HITS Lamplight Equestrian Center\, 6N940 Dunham Road\, Wayne\, IL\, 60184
CATEGORIES:Hunter/Jumper
ORGANIZER;CN="HITS%2C LLC":MAILTO:info@HITSShows.com
END:VEVENT
BEGIN:VEVENT
DTSTART;VALUE=DATE:20250723
DTEND;VALUE=DATE:20250728
DTSTAMP:20260419T083606
CREATED:20241015T211423Z
LAST-MODIFIED:20250320T142752Z
UID:10000281-1753228800-1753660799@www.hitsshows.com
SUMMARY:HITS Hudson Valley V
DESCRIPTION:
URL:https://www.hitsshows.com/event/hits-on-the-hudson-v-4/
LOCATION:HITS-on-the-Hudson\, 454 Washington Avenue Ext\, Saugerties\, NY\, 12477
CATEGORIES:Hunter/Jumper
ORGANIZER;CN="HITS%2C LLC":MAILTO:info@HITSShows.com
END:VEVENT
BEGIN:VEVENT
DTSTART;VALUE=DATE:20250723
DTEND;VALUE=DATE:20250728
DTSTAMP:20260419T083606
CREATED:20241015T211423Z
LAST-MODIFIED:20250103T191656Z
UID:10000282-1753228800-1753660799@www.hitsshows.com
SUMMARY:Valley Classic Horse Show
DESCRIPTION:
URL:https://www.hitsshows.com/event/valley-classic-2/
LOCATION:Harold Beebe Farm\, 3028 Rt 7\, East Dorset\, VT\, 05251
CATEGORIES:Hunter/Jumper
ORGANIZER;CN="HITS%2C LLC":MAILTO:info@HITSShows.com
END:VEVENT
BEGIN:VEVENT
DTSTART;VALUE=DATE:20250724
DTEND;VALUE=DATE:20250728
DTSTAMP:20260419T083606
CREATED:20241230T192150Z
LAST-MODIFIED:20250411T143911Z
UID:10000338-1753315200-1753660799@www.hitsshows.com
SUMMARY:Adequan/USEF Junior Hunter National Championship - West Coast
DESCRIPTION:OPEN TO THE PUBLIC – FREE ADMISSION \nAbout the Event \nEstablished in 2001\, the Adequan/USEF Junior Hunter National Championship showcases the best junior hunters in the nation while providing riders opportunities to meet and spend time with competitors from all over the country. In 2014\, the new 3’3” Junior Hunter section was added to the Championship and has quickly gained popularity.  Each year\, more than 2\,000 eligible hunters qualify to compete in the prestigious final which is held on each coast and is comprised of three phases: handy hunter\, classic\, and under saddle phase. The overall score from the weighted sections determines the ultimate winner. \nUSEF Staff Contact \nJennifer Day\njday@usef.org\n859-225-2029
URL:https://www.hitsshows.com/event/junior-hunter-finals-del-mar/
LOCATION:HITS Del Mar Horsepark\, 14550 El Camino Real\, Del Mar\, CA\, 92014
CATEGORIES:Hunter/Jumper
END:VEVENT
BEGIN:VEVENT
DTSTART;TZID=America/Los_Angeles:20250725T080000
DTEND;TZID=America/Los_Angeles:20250725T100000
DTSTAMP:20260419T083606
CREATED:20250604T181754Z
LAST-MODIFIED:20250615T200906Z
UID:10000369-1753430400-1753437600@www.hitsshows.com
SUMMARY:Vermont Summer Festival – Breakfast in the Exhibitor Tent
DESCRIPTION:Sponsored by Spring & Harbor and Ramsey Gourd \nHITS is pleased to share the calendar of special events for the 2025 HITS Vermont Summer Festival. While exhibitors can expect the continued lineup of elite class offerings for hunter\, jumper\, and equitation riders\, the HITS Vermont Summer Festival also provides extra activities outside of the show ring to deliver a unique destination horse show experience. \nGet ready for six weeks of excitement in beautiful Manchester\, Vermont\, because it is not called the HITS Vermont Summer FESTIVAL for nothing!
URL:https://www.hitsshows.com/event/vermont-summer-festival-breakfast-in-the-exhibitor-tent-5/
LOCATION:Harold Beebe Farm\, 3028 Rt 7\, East Dorset\, VT\, 05251
CATEGORIES:Hunter/Jumper
END:VEVENT
BEGIN:VEVENT
DTSTART;TZID=America/Los_Angeles:20250725T150000
DTEND;TZID=America/Los_Angeles:20250725T170000
DTSTAMP:20260419T083606
CREATED:20250604T173636Z
LAST-MODIFIED:20250604T173643Z
UID:10000362-1753455600-1753462800@www.hitsshows.com
SUMMARY:Weekly TÖST Tasting – Valley Classic (IV)
DESCRIPTION:HITS is pleased to share the calendar of special events for the 2025 HITS Vermont Summer Festival. While exhibitors can expect the continued lineup of elite class offerings for hunter\, jumper\, and equitation riders\, the HITS Vermont Summer Festival also provides extra activities outside of the show ring to deliver a unique destination horse show experience. \nGet ready for six weeks of excitement in beautiful Manchester\, Vermont\, because it is not called the HITS Vermont Summer FESTIVAL for nothing!
URL:https://www.hitsshows.com/event/weekly-tost-tasting-valley-classic-iv/
LOCATION:Harold Beebe Farm\, 3028 Rt 7\, East Dorset\, VT\, 05251
CATEGORIES:Hunter/Jumper
END:VEVENT
END:VCALENDAR