BEGIN:VCALENDAR
VERSION:2.0
PRODID:-//HITS Horse Shows - ECPv6.15.18//NONSGML v1.0//EN
CALSCALE:GREGORIAN
METHOD:PUBLISH
X-ORIGINAL-URL:https://www.hitsshows.com
X-WR-CALDESC:Events for HITS Horse Shows
REFRESH-INTERVAL;VALUE=DURATION:PT1H
X-Robots-Tag:noindex
X-PUBLISHED-TTL:PT1H
BEGIN:VTIMEZONE
TZID:America/Los_Angeles
BEGIN:DAYLIGHT
TZOFFSETFROM:-0800
TZOFFSETTO:-0700
TZNAME:PDT
DTSTART:20240310T100000
END:DAYLIGHT
BEGIN:STANDARD
TZOFFSETFROM:-0700
TZOFFSETTO:-0800
TZNAME:PST
DTSTART:20241103T090000
END:STANDARD
BEGIN:DAYLIGHT
TZOFFSETFROM:-0800
TZOFFSETTO:-0700
TZNAME:PDT
DTSTART:20250309T100000
END:DAYLIGHT
BEGIN:STANDARD
TZOFFSETFROM:-0700
TZOFFSETTO:-0800
TZNAME:PST
DTSTART:20251102T090000
END:STANDARD
BEGIN:DAYLIGHT
TZOFFSETFROM:-0800
TZOFFSETTO:-0700
TZNAME:PDT
DTSTART:20260308T100000
END:DAYLIGHT
BEGIN:STANDARD
TZOFFSETFROM:-0700
TZOFFSETTO:-0800
TZNAME:PST
DTSTART:20261101T090000
END:STANDARD
END:VTIMEZONE
BEGIN:VEVENT
DTSTART;VALUE=DATE:20250611
DTEND;VALUE=DATE:20250707
DTSTAMP:20260419T095318
CREATED:20250304T202049Z
LAST-MODIFIED:20250304T202111Z
UID:10000355-1749600000-1751846399@www.hitsshows.com
SUMMARY:Del Mar Fair Parking
DESCRIPTION:
URL:https://www.hitsshows.com/event/select-del-mar-fair-parking/
LOCATION:HITS Del Mar Horsepark\, 14550 El Camino Real\, Del Mar\, CA\, 92014
CATEGORIES:Rental
END:VEVENT
BEGIN:VEVENT
DTSTART;VALUE=DATE:20250702
DTEND;VALUE=DATE:20250707
DTSTAMP:20260419T095318
CREATED:20241015T210913Z
LAST-MODIFIED:20250128T210323Z
UID:10000263-1751414400-1751846399@www.hitsshows.com
SUMMARY:Lamplight Summertime I
DESCRIPTION:
URL:https://www.hitsshows.com/event/lamplight-summertime-i-2/
LOCATION:HITS Lamplight Equestrian Center\, 6N940 Dunham Road\, Wayne\, IL\, 60184
CATEGORIES:Hunter/Jumper
ORGANIZER;CN="HITS%2C LLC":MAILTO:info@HITSShows.com
END:VEVENT
BEGIN:VEVENT
DTSTART;VALUE=DATE:20250702
DTEND;VALUE=DATE:20250707
DTSTAMP:20260419T095318
CREATED:20241015T211104Z
LAST-MODIFIED:20250128T194309Z
UID:10000264-1751414400-1751846399@www.hitsshows.com
SUMMARY:Showday National
DESCRIPTION:
URL:https://www.hitsshows.com/event/showday-national-2/
LOCATION:HITS Commonwealth Park\, 13256 Commonwealth Parkway\, Culpeper\, VA\, 22701
CATEGORIES:Hunter/Jumper
ORGANIZER;CN="HITS%2C LLC":MAILTO:info@HITSShows.com
END:VEVENT
BEGIN:VEVENT
DTSTART;VALUE=DATE:20250702
DTEND;VALUE=DATE:20250707
DTSTAMP:20260419T095318
CREATED:20241015T211104Z
LAST-MODIFIED:20250103T191303Z
UID:10000265-1751414400-1751846399@www.hitsshows.com
SUMMARY:Vermont Summer Special
DESCRIPTION:
URL:https://www.hitsshows.com/event/vermont-summer-special-2/
LOCATION:Harold Beebe Farm\, 3028 Rt 7\, East Dorset\, VT\, 05251
CATEGORIES:Hunter/Jumper
ORGANIZER;CN="HITS%2C LLC":MAILTO:info@HITSShows.com
END:VEVENT
BEGIN:VEVENT
DTSTART;TZID=America/Los_Angeles:20250703T080000
DTEND;TZID=America/Los_Angeles:20250703T100000
DTSTAMP:20260419T095318
CREATED:20250604T174316Z
LAST-MODIFIED:20250604T174853Z
UID:10000365-1751529600-1751536800@www.hitsshows.com
SUMMARY:Vermont Summer Festival - Breakfast in the Exhibitor Tent
DESCRIPTION:Presented by  \n \nHITS is pleased to share the calendar of special events for the 2025 HITS Vermont Summer Festival. While exhibitors can expect the continued lineup of elite class offerings for hunter\, jumper\, and equitation riders\, the HITS Vermont Summer Festival also provides extra activities outside of the show ring to deliver a unique destination horse show experience. \nGet ready for six weeks of excitement in beautiful Manchester\, Vermont\, because it is not called the HITS Vermont Summer FESTIVAL for nothing!
URL:https://www.hitsshows.com/event/vermont-summer-festival-breakfast-in-the-exhibitor-tent/
LOCATION:Harold Beebe Farm\, 3028 Rt 7\, East Dorset\, VT\, 05251
CATEGORIES:Hunter/Jumper
END:VEVENT
BEGIN:VEVENT
DTSTART;TZID=America/Los_Angeles:20250703T150000
DTEND;TZID=America/Los_Angeles:20250703T170000
DTSTAMP:20260419T095318
CREATED:20250604T173051Z
LAST-MODIFIED:20250604T173051Z
UID:10000359-1751554800-1751562000@www.hitsshows.com
SUMMARY:Weekly TÖST Tasting - Vermont Summer Special (I)
DESCRIPTION:HITS is pleased to share the calendar of special events for the 2025 HITS Vermont Summer Festival. While exhibitors can expect the continued lineup of elite class offerings for hunter\, jumper\, and equitation riders\, the HITS Vermont Summer Festival also provides extra activities outside of the show ring to deliver a unique destination horse show experience. \nGet ready for six weeks of excitement in beautiful Manchester\, Vermont\, because it is not called the HITS Vermont Summer FESTIVAL for nothing!
URL:https://www.hitsshows.com/event/weekly-tost-tasting-vermont-summer-special-i/
LOCATION:Harold Beebe Farm\, 3028 Rt 7\, East Dorset\, VT\, 05251
CATEGORIES:Hunter/Jumper
END:VEVENT
END:VCALENDAR