BEGIN:VCALENDAR
VERSION:2.0
PRODID:-//HITS Horse Shows - ECPv6.15.18//NONSGML v1.0//EN
CALSCALE:GREGORIAN
METHOD:PUBLISH
X-WR-CALNAME:HITS Horse Shows
X-ORIGINAL-URL:https://www.hitsshows.com
X-WR-CALDESC:Events for HITS Horse Shows
REFRESH-INTERVAL;VALUE=DURATION:PT1H
X-Robots-Tag:noindex
X-PUBLISHED-TTL:PT1H
BEGIN:VTIMEZONE
TZID:America/Los_Angeles
BEGIN:DAYLIGHT
TZOFFSETFROM:-0800
TZOFFSETTO:-0700
TZNAME:PDT
DTSTART:20240310T100000
END:DAYLIGHT
BEGIN:STANDARD
TZOFFSETFROM:-0700
TZOFFSETTO:-0800
TZNAME:PST
DTSTART:20241103T090000
END:STANDARD
BEGIN:DAYLIGHT
TZOFFSETFROM:-0800
TZOFFSETTO:-0700
TZNAME:PDT
DTSTART:20250309T100000
END:DAYLIGHT
BEGIN:STANDARD
TZOFFSETFROM:-0700
TZOFFSETTO:-0800
TZNAME:PST
DTSTART:20251102T090000
END:STANDARD
BEGIN:DAYLIGHT
TZOFFSETFROM:-0800
TZOFFSETTO:-0700
TZNAME:PDT
DTSTART:20260308T100000
END:DAYLIGHT
BEGIN:STANDARD
TZOFFSETFROM:-0700
TZOFFSETTO:-0800
TZNAME:PST
DTSTART:20261101T090000
END:STANDARD
END:VTIMEZONE
BEGIN:VEVENT
DTSTART;VALUE=DATE:20250611
DTEND;VALUE=DATE:20250707
DTSTAMP:20260419T095938
CREATED:20250304T202049Z
LAST-MODIFIED:20250304T202111Z
UID:10000355-1749600000-1751846399@www.hitsshows.com
SUMMARY:Del Mar Fair Parking
DESCRIPTION:
URL:https://www.hitsshows.com/event/select-del-mar-fair-parking/
LOCATION:HITS Del Mar Horsepark\, 14550 El Camino Real\, Del Mar\, CA\, 92014
CATEGORIES:Rental
END:VEVENT
BEGIN:VEVENT
DTSTART;VALUE=DATE:20250626
DTEND;VALUE=DATE:20250630
DTSTAMP:20260419T095938
CREATED:20250205T184238Z
LAST-MODIFIED:20250602T175455Z
UID:10000351-1750896000-1751241599@www.hitsshows.com
SUMMARY:Festival of the Horse™ – Hudson Valley
DESCRIPTION:HITS is proud to introduce The Festival of the Horse™\, a unique celebration of equestrian enthusiasts through a multidiscipline\, unrated competition format. Join us for the first Festival at HITS Post Time Farm! Featured disciplines will include classes for hunter/ jumper\, dressage\, pony club\, western pleasure\, arena eventing\, and more!
URL:https://www.hitsshows.com/event/festival-of-the-horse-hudson-valley/
LOCATION:HITS-on-the-Hudson\, 454 Washington Avenue Ext\, Saugerties\, NY\, 12477
CATEGORIES:Social
END:VEVENT
BEGIN:VEVENT
DTSTART;VALUE=DATE:20250627
DTEND;VALUE=DATE:20250630
DTSTAMP:20260419T095938
CREATED:20240405T042341Z
LAST-MODIFIED:20241217T173526Z
UID:10000121-1750982400-1751241599@www.hitsshows.com
SUMMARY:HITS The League + VHSA 3 June
DESCRIPTION:HITS Culpeper is proud to host 6 VHSA-affiliated shows in 2025. These competitions will feature Associate VHSA Rated classes as well as sanctioned divisions by The League presented by Marshall & Sterling Insurance\, offering riders opportunities to earn valuable qualifying points for The League Finals in Saugerties this September.
URL:https://www.hitsshows.com/event/hits-the-league-vhsa-june/
LOCATION:HITS Commonwealth Park\, 13256 Commonwealth Parkway\, Culpeper\, VA\, 22701
CATEGORIES:Hunter/Jumper
ATTACH;FMTTYPE=image/jpeg:https://www.hitsshows.com/wp-content/uploads/2024/10/VA_Copr2024AlisonHartwell_CP24-78-0012_24.jpg
ORGANIZER;CN="HITS%2C LLC":MAILTO:info@HITSShows.com
END:VEVENT
BEGIN:VEVENT
DTSTART;VALUE=DATE:20250627
DTEND;VALUE=DATE:20250630
DTSTAMP:20260419T095938
CREATED:20241015T210913Z
LAST-MODIFIED:20250225T154641Z
UID:10000260-1750982400-1751241599@www.hitsshows.com
SUMMARY:Lamplight Summer Dressage I&II
DESCRIPTION:
URL:https://www.hitsshows.com/event/lamplight-summer-dressage-i-2/
LOCATION:HITS Lamplight Equestrian Center\, 6N940 Dunham Road\, Wayne\, IL\, 60184
CATEGORIES:Dressage
ORGANIZER;CN="HITS%2C LLC":MAILTO:info@HITSShows.com
END:VEVENT
END:VCALENDAR