BEGIN:VCALENDAR
VERSION:2.0
PRODID:-//HITS Horse Shows - ECPv6.15.18//NONSGML v1.0//EN
CALSCALE:GREGORIAN
METHOD:PUBLISH
X-ORIGINAL-URL:https://www.hitsshows.com
X-WR-CALDESC:Events for HITS Horse Shows
REFRESH-INTERVAL;VALUE=DURATION:PT1H
X-Robots-Tag:noindex
X-PUBLISHED-TTL:PT1H
BEGIN:VTIMEZONE
TZID:America/Los_Angeles
BEGIN:DAYLIGHT
TZOFFSETFROM:-0800
TZOFFSETTO:-0700
TZNAME:PDT
DTSTART:20240310T100000
END:DAYLIGHT
BEGIN:STANDARD
TZOFFSETFROM:-0700
TZOFFSETTO:-0800
TZNAME:PST
DTSTART:20241103T090000
END:STANDARD
BEGIN:DAYLIGHT
TZOFFSETFROM:-0800
TZOFFSETTO:-0700
TZNAME:PDT
DTSTART:20250309T100000
END:DAYLIGHT
BEGIN:STANDARD
TZOFFSETFROM:-0700
TZOFFSETTO:-0800
TZNAME:PST
DTSTART:20251102T090000
END:STANDARD
BEGIN:DAYLIGHT
TZOFFSETFROM:-0800
TZOFFSETTO:-0700
TZNAME:PDT
DTSTART:20260308T100000
END:DAYLIGHT
BEGIN:STANDARD
TZOFFSETFROM:-0700
TZOFFSETTO:-0800
TZNAME:PST
DTSTART:20261101T090000
END:STANDARD
END:VTIMEZONE
BEGIN:VEVENT
DTSTART;VALUE=DATE:20250526
DTEND;VALUE=DATE:20250602
DTSTAMP:20260419T140443
CREATED:20241015T210413Z
LAST-MODIFIED:20250411T143651Z
UID:10000247-1748217600-1748822399@www.hitsshows.com
SUMMARY:Arabian National Show
DESCRIPTION:OPEN TO THE PUBLIC – FREE ADMISSION
URL:https://www.hitsshows.com/event/arabian-show/
LOCATION:HITS Del Mar Horsepark\, 14550 El Camino Real\, Del Mar\, CA\, 92014
CATEGORIES:Rental
END:VEVENT
BEGIN:VEVENT
DTSTART;VALUE=DATE:20250528
DTEND;VALUE=DATE:20250602
DTSTAMP:20260419T140443
CREATED:20241015T210413Z
LAST-MODIFIED:20250320T152646Z
UID:10000248-1748390400-1748822399@www.hitsshows.com
SUMMARY:HITS Hudson Valley II
DESCRIPTION:
URL:https://www.hitsshows.com/event/hits-on-the-hudson-ii-3/
LOCATION:HITS-on-the-Hudson\, 454 Washington Avenue Ext\, Saugerties\, NY\, 12477
CATEGORIES:Hunter/Jumper
ORGANIZER;CN="HITS%2C LLC":MAILTO:info@HITSShows.com
END:VEVENT
BEGIN:VEVENT
DTSTART;VALUE=DATE:20250531
DTEND;VALUE=DATE:20250602
DTSTAMP:20260419T140443
CREATED:20241015T210512Z
LAST-MODIFIED:20250411T143719Z
UID:10000249-1748649600-1748822399@www.hitsshows.com
SUMMARY:SCDA Dog Show
DESCRIPTION:OPEN TO THE PUBLIC – FREE ADMISSION
URL:https://www.hitsshows.com/event/scda-dog-show/
LOCATION:HITS Del Mar Horsepark\, 14550 El Camino Real\, Del Mar\, CA\, 92014
CATEGORIES:Rental
ATTACH;FMTTYPE=image/jpeg:https://www.hitsshows.com/wp-content/uploads/2024/12/KR1_2352.jpg
ORGANIZER;CN="SCDA":MAILTO:contact@sandiegocoastalagility.com
END:VEVENT
BEGIN:VEVENT
DTSTART;VALUE=DATE:20250531
DTEND;VALUE=DATE:20250602
DTSTAMP:20260419T140444
CREATED:20250225T154520Z
LAST-MODIFIED:20250225T164015Z
UID:10000353-1748649600-1748822399@www.hitsshows.com
SUMMARY:HITS Windy City Dressage at Lamplight I&II
DESCRIPTION:
URL:https://www.hitsshows.com/event/hits-windy-city-dressage-at-lamplight-iii/
LOCATION:HITS Lamplight Equestrian Center\, 6N940 Dunham Road\, Wayne\, IL\, 60184
CATEGORIES:Dressage
END:VEVENT
END:VCALENDAR