BEGIN:VCALENDAR
VERSION:2.0
PRODID:-//HITS Horse Shows - ECPv6.15.18//NONSGML v1.0//EN
CALSCALE:GREGORIAN
METHOD:PUBLISH
X-ORIGINAL-URL:https://www.hitsshows.com
X-WR-CALDESC:Events for HITS Horse Shows
REFRESH-INTERVAL;VALUE=DURATION:PT1H
X-Robots-Tag:noindex
X-PUBLISHED-TTL:PT1H
BEGIN:VTIMEZONE
TZID:America/Los_Angeles
BEGIN:DAYLIGHT
TZOFFSETFROM:-0800
TZOFFSETTO:-0700
TZNAME:PDT
DTSTART:20240310T100000
END:DAYLIGHT
BEGIN:STANDARD
TZOFFSETFROM:-0700
TZOFFSETTO:-0800
TZNAME:PST
DTSTART:20241103T090000
END:STANDARD
BEGIN:DAYLIGHT
TZOFFSETFROM:-0800
TZOFFSETTO:-0700
TZNAME:PDT
DTSTART:20250309T100000
END:DAYLIGHT
BEGIN:STANDARD
TZOFFSETFROM:-0700
TZOFFSETTO:-0800
TZNAME:PST
DTSTART:20251102T090000
END:STANDARD
BEGIN:DAYLIGHT
TZOFFSETFROM:-0800
TZOFFSETTO:-0700
TZNAME:PDT
DTSTART:20260308T100000
END:DAYLIGHT
BEGIN:STANDARD
TZOFFSETFROM:-0700
TZOFFSETTO:-0800
TZNAME:PST
DTSTART:20261101T090000
END:STANDARD
END:VTIMEZONE
BEGIN:VEVENT
DTSTART;VALUE=DATE:20250318
DTEND;VALUE=DATE:20250324
DTSTAMP:20260420T095948
CREATED:20240405T041338Z
LAST-MODIFIED:20240626T131332Z
UID:10000097-1742256000-1742774399@www.hitsshows.com
SUMMARY:Ocala Championship
DESCRIPTION:HITS Ocala Winter season features 13 weeks of USEF-rated competition.  Highlights include weekly Grand Prix and Hunter Derbies and Junior/ Amateur Hunter and Jumper Classics for horses and riders of all levels.  Plus Hunter riders take center stage during select weeks featuring World Championship Hunter Rider (WCHR) competition\, USHJA International Hunter Derbies\, and Premier Hunter Competition*.
URL:https://www.hitsshows.com/event/ocala-championship/
LOCATION:HITS Post Time Farm\, 13710 US Highway 27\, Ocala\, FL\, 34482
CATEGORIES:Hunter/Jumper
ATTACH;FMTTYPE=image/svg+xml:https://www.hitsshows.com/wp-content/uploads/2024/04/hits-ocala-calendar-featured2.svg
ORGANIZER;CN="HITS%2C LLC":MAILTO:info@HITSShows.com
END:VEVENT
BEGIN:VEVENT
DTSTART;VALUE=DATE:20250320
DTEND;VALUE=DATE:20250324
DTSTAMP:20260420T095948
CREATED:20241015T205906Z
LAST-MODIFIED:20250115T181208Z
UID:10000230-1742428800-1742774399@www.hitsshows.com
SUMMARY:Del Mar Dressage Affaire
DESCRIPTION:Established in 2024\, the HITS Del Mar Dressage Affaire CDI3* and USEF Level 5 National Qualifier showcases top dressage sport on the West Coast. This CDI and National event helps riders qualify for USEF Festival of Champions\, North American Youth Championships and World Breeding Championships. All HITS shows feature a new Pony and Small Horse Division as well as the addition of a Prix Caprilli class combining dressage and jumping skills together.  \n\n\nHITS Dressage Contact \n\n\nKim Keenan Stordahl \n\n\nkim@hitsshows.com \n\n\n564.202.4244
URL:https://www.hitsshows.com/event/del-mar-dressage-affaire/
LOCATION:HITS Del Mar Horsepark\, 14550 El Camino Real\, Del Mar\, CA\, 92014
CATEGORIES:Dressage
ORGANIZER;CN="HITS%2C LLC":MAILTO:info@HITSShows.com
END:VEVENT
END:VCALENDAR