BEGIN:VCALENDAR
VERSION:2.0
PRODID:-//HITS Horse Shows - ECPv6.15.18//NONSGML v1.0//EN
CALSCALE:GREGORIAN
METHOD:PUBLISH
X-WR-CALNAME:HITS Horse Shows
X-ORIGINAL-URL:https://www.hitsshows.com
X-WR-CALDESC:Events for HITS Horse Shows
REFRESH-INTERVAL;VALUE=DURATION:PT1H
X-Robots-Tag:noindex
X-PUBLISHED-TTL:PT1H
BEGIN:VTIMEZONE
TZID:America/Los_Angeles
BEGIN:DAYLIGHT
TZOFFSETFROM:-0800
TZOFFSETTO:-0700
TZNAME:PDT
DTSTART:20240310T100000
END:DAYLIGHT
BEGIN:STANDARD
TZOFFSETFROM:-0700
TZOFFSETTO:-0800
TZNAME:PST
DTSTART:20241103T090000
END:STANDARD
BEGIN:DAYLIGHT
TZOFFSETFROM:-0800
TZOFFSETTO:-0700
TZNAME:PDT
DTSTART:20250309T100000
END:DAYLIGHT
BEGIN:STANDARD
TZOFFSETFROM:-0700
TZOFFSETTO:-0800
TZNAME:PST
DTSTART:20251102T090000
END:STANDARD
BEGIN:DAYLIGHT
TZOFFSETFROM:-0800
TZOFFSETTO:-0700
TZNAME:PDT
DTSTART:20260308T100000
END:DAYLIGHT
BEGIN:STANDARD
TZOFFSETFROM:-0700
TZOFFSETTO:-0800
TZNAME:PST
DTSTART:20261101T090000
END:STANDARD
END:VTIMEZONE
BEGIN:VEVENT
DTSTART;TZID=America/Los_Angeles:20250913T110000
DTEND;TZID=America/Los_Angeles:20250913T120000
DTSTAMP:20260425T075134
CREATED:20250903T142820Z
LAST-MODIFIED:20250903T145409Z
UID:8361-1757761200-1757764800@www.hitsshows.com
SUMMARY:The League National Finals Special Events – Saturday Scavenger Hunt
DESCRIPTION:Saturday Scavenger Hunt Adventure – Find the Woodland Creatures \nSaturday\, September 13\, 11-Noon pm\, Showgrounds \nGet ready for a fun-filled challenge! Participants receive a series of clues leading to Locations on the Showgrounds. END the Hunt with bragging rights (and maybe Prizes) that await! \nThe League Finals Exhibitors & their Families are invited to attend these Special Events taking place during the National Finals on the HITS-on-the-Hudson Showgrounds.
URL:https://www.hitsshows.com/event/the-league-finals-special-events-saturday-scavenger-hunt/
LOCATION:HITS-on-the-Hudson\, 454 Washington Avenue Ext\, Saugerties\, NY\, 12477
CATEGORIES:Hunter/Jumper
ATTACH;FMTTYPE=image/jpeg:https://www.hitsshows.com/wp-content/uploads/2025/09/Resized_2-1.jpg
ORGANIZER;CN="The League":MAILTO:Patti@hitsshows.com
END:VEVENT
END:VCALENDAR