BEGIN:VCALENDAR
VERSION:2.0
PRODID:-//HITS Horse Shows - ECPv6.15.18//NONSGML v1.0//EN
CALSCALE:GREGORIAN
METHOD:PUBLISH
X-WR-CALNAME:HITS Horse Shows
X-ORIGINAL-URL:https://www.hitsshows.com
X-WR-CALDESC:Events for HITS Horse Shows
REFRESH-INTERVAL;VALUE=DURATION:PT1H
X-Robots-Tag:noindex
X-PUBLISHED-TTL:PT1H
BEGIN:VTIMEZONE
TZID:America/New_York
BEGIN:DAYLIGHT
TZOFFSETFROM:-0500
TZOFFSETTO:-0400
TZNAME:EDT
DTSTART:20230312T070000
END:DAYLIGHT
BEGIN:STANDARD
TZOFFSETFROM:-0400
TZOFFSETTO:-0500
TZNAME:EST
DTSTART:20231105T060000
END:STANDARD
BEGIN:DAYLIGHT
TZOFFSETFROM:-0500
TZOFFSETTO:-0400
TZNAME:EDT
DTSTART:20240310T070000
END:DAYLIGHT
BEGIN:STANDARD
TZOFFSETFROM:-0400
TZOFFSETTO:-0500
TZNAME:EST
DTSTART:20241103T060000
END:STANDARD
BEGIN:DAYLIGHT
TZOFFSETFROM:-0500
TZOFFSETTO:-0400
TZNAME:EDT
DTSTART:20250309T070000
END:DAYLIGHT
BEGIN:STANDARD
TZOFFSETFROM:-0400
TZOFFSETTO:-0500
TZNAME:EST
DTSTART:20251102T060000
END:STANDARD
END:VTIMEZONE
BEGIN:VEVENT
DTSTART;VALUE=DATE:20240907
DTEND;VALUE=DATE:20240909
DTSTAMP:20260421T035709
CREATED:20240328T175106Z
LAST-MODIFIED:20250115T181303Z
UID:1359-1725667200-1725839999@www.hitsshows.com
SUMMARY:HITS Del Mar Dressage Fall
DESCRIPTION:Established in 2024\, the HITS Del Mar Dressage Fall I Show is a USEF level 2 competition featuring a relaxed environment for riders to practice their dressage skills without the pressure of qualifying for any national championships. All HITS shows feature a new Pony and Small Horse Division as well as the addition of a Prix Caprilli class combining dressage and jumping skills together.  \n\n\nHITS Dressage Contact \n\n\nKim Keenan Stordahl \n\n\nkim@hitsshows.com \n\n\n564.202.4244
URL:https://www.hitsshows.com/event/hits-del-mar-dressage-fall/
LOCATION:HITS Del Mar Horsepark\, 14550 El Camino Real\, Del Mar\, CA\, 92014
CATEGORIES:Dressage
ATTACH;FMTTYPE=image/svg+xml:https://www.hitsshows.com/wp-content/uploads/2024/04/hits-delmar-calendar-featured2.svg
ORGANIZER;CN="HITS%2C LLC":MAILTO:info@HITSShows.com
END:VEVENT
END:VCALENDAR